BEGIN:VCALENDAR
VERSION:2.0
PRODID:-//wp-events-plugin.com//7.2.3.1//EN
TZID:Europe/Berlin
X-WR-TIMEZONE:Europe/Berlin
BEGIN:VEVENT
UID:1376@galli-ausbildung.de
DTSTART;TZID=Europe/Berlin:20261107T100000
DTEND;TZID=Europe/Berlin:20261107T180000
DTSTAMP:20250528T154012Z
URL:https://galli-ausbildung.de/events/die-geburt-des-clowns-16/
SUMMARY:Die Geburt des Clowns
DESCRIPTION:Der Clown beginnt dort\, wo dem Verstand nichts mehr einfällt.
 Er ist der König der Spieler und verwandelt im Handumdrehen jedes Scheite
 rn in eine lustige Clownnummer. Er bringt alle zum Lachen und es ist ein L
 achen aus ganzem Herzen\, was gleichermaßen befreit und Verständnis für
 einander schafft.Der Clown liebt das totale Spiel\, weil er ahnt\, das gan
 ze Leben ist ein Spiel!
ATTACH;FMTTYPE=image/jpeg:https://galli-ausbildung.de/wp-content/uploads/2
 018/08/Galli-Training-Center-Clown-3x1.jpg
CATEGORIES:Tages- oder WE Workshop,Workshops
LOCATION:Galli Training Center Wiesbaden\, Adelheidstraße 21\, Wiesbaden\,
  Hessen\, 65185\, Deutschland
GEO:50.076098;8.240002
X-APPLE-STRUCTURED-LOCATION;VALUE=URI;X-ADDRESS=Adelheidstraße 21\, Wiesba
 den\, Hessen\, 65185\, Deutschland;X-APPLE-RADIUS=100;X-TITLE=Galli Traini
 ng Center Wiesbaden:geo:50.076098,8.240002
END:VEVENT
BEGIN:VTIMEZONE
TZID:Europe/Berlin
X-LIC-LOCATION:Europe/Berlin
BEGIN:STANDARD
DTSTART:20261025T020000
TZOFFSETFROM:+0200
TZOFFSETTO:+0100
TZNAME:CET
END:STANDARD
END:VTIMEZONE
END:VCALENDAR