BEGIN:VCALENDAR
VERSION:2.0
PRODID:-//wp-events-plugin.com//7.2.3.1//EN
TZID:Europe/Berlin
X-WR-TIMEZONE:Europe/Berlin
BEGIN:VEVENT
UID:1359@galli-ausbildung.de
DTSTART;TZID=Europe/Berlin:20260803T100000
DTEND;TZID=Europe/Berlin:20260807T180000
DTSTAMP:20250923T183119Z
URL:https://galli-ausbildung.de/events/die-sieben-kellerkinder-sieben-tale
 nte-28/
SUMMARY:Die sieben Kellerkinder® - Sieben Talente
DESCRIPTION:Das dynamische Typenmodell "Die Sieben Kellerkinder®"\, entwic
 kelt von Johannes Galli\, ist das zentrale Modul der Galli Methode®."Die 
 Sieben Kellerkinder®"sind sieben innere sehr kreative und spielfreudige F
 iguren\, die unsere Talente prägen.Nur selten stehen uns "Die Sieben Kell
 erkinder®" vollständig zur Verfügung. Das ein oder andere Kellerkind is
 t ungeliebt und man nimmt es nicht mehr wahr. Allerdings ist das Kellerkin
 d damit nicht verschwunden\, sondern im Gegenteil\, es fordert Aufmerksamk
 eit\, aber leider in ungünstigen Situationen und treibt so den Menschen i
 n manch peinliche oder sogar gefährliche und krankmachende Lebenssituatio
 n.
ATTACH;FMTTYPE=image/jpeg:https://galli-ausbildung.de/wp-content/uploads/2
 024/06/SliderKellerkinder3-1.jpg
CATEGORIES:Aus- und Weiterbildung,Workshops
LOCATION:Galli Training Center Wiesbaden\, Adelheidstraße 21\, Wiesbaden\,
  Hessen\, 65185\, Deutschland
GEO:50.076098;8.240002
X-APPLE-STRUCTURED-LOCATION;VALUE=URI;X-ADDRESS=Adelheidstraße 21\, Wiesba
 den\, Hessen\, 65185\, Deutschland;X-APPLE-RADIUS=100;X-TITLE=Galli Traini
 ng Center Wiesbaden:geo:50.076098,8.240002
END:VEVENT
BEGIN:VTIMEZONE
TZID:Europe/Berlin
X-LIC-LOCATION:Europe/Berlin
BEGIN:DAYLIGHT
DTSTART:20260329T030000
TZOFFSETFROM:+0100
TZOFFSETTO:+0200
TZNAME:CEST
END:DAYLIGHT
END:VTIMEZONE
END:VCALENDAR