BEGIN:VCALENDAR
VERSION:2.0
PRODID:-//wp-events-plugin.com//7.2.3.1//EN
TZID:Europe/Berlin
X-WR-TIMEZONE:Europe/Berlin
BEGIN:VEVENT
UID:1372@galli-ausbildung.de
DTSTART;TZID=Europe/Berlin:20260718T100000
DTEND;TZID=Europe/Berlin:20260718T180000
DTSTAMP:20250923T190900Z
URL:https://galli-ausbildung.de/events/ueberzeugend-auftreten-13/
SUMMARY:Überzeugend Auftreten!
DESCRIPTION:Es ist eine Kunst\, sich so zu präsentieren\, dass die eigenen
  Stärken selbstsicher und authentisch sichtbar werden. Diese Kunst\, will
  geübt werden.Um die eigenen Stärken herauszuarbeiten\, dient uns das Wi
 ssen über die Bedeutung der Körpersprache sowie das\, von Johannes Galli
  entwickelte Modell „Persönlichkeit durch Rollenwechsel“.
ATTACH;FMTTYPE=image/jpeg:https://galli-ausbildung.de/wp-content/uploads/2
 024/07/SliderUeberzeugend3-1.jpg
CATEGORIES:Tages- oder WE Workshop,Workshops
LOCATION:Galli Training Center Wiesbaden\, Adelheidstraße 21\, Wiesbaden\,
  Hessen\, 65185\, Deutschland
GEO:50.076098;8.240002
X-APPLE-STRUCTURED-LOCATION;VALUE=URI;X-ADDRESS=Adelheidstraße 21\, Wiesba
 den\, Hessen\, 65185\, Deutschland;X-APPLE-RADIUS=100;X-TITLE=Galli Traini
 ng Center Wiesbaden:geo:50.076098,8.240002
END:VEVENT
BEGIN:VTIMEZONE
TZID:Europe/Berlin
X-LIC-LOCATION:Europe/Berlin
BEGIN:DAYLIGHT
DTSTART:20260329T030000
TZOFFSETFROM:+0100
TZOFFSETTO:+0200
TZNAME:CEST
END:DAYLIGHT
END:VTIMEZONE
END:VCALENDAR